BEGIN:VCALENDAR
VERSION:2.0
PRODID:-//ERA Coalition Forward - ECPv6.15.17//NONSGML v1.0//EN
CALSCALE:GREGORIAN
METHOD:PUBLISH
X-WR-CALNAME:ERA Coalition Forward
X-ORIGINAL-URL:https://eracoalitionforward.org
X-WR-CALDESC:Events for ERA Coalition Forward
REFRESH-INTERVAL;VALUE=DURATION:PT1H
X-Robots-Tag:noindex
X-PUBLISHED-TTL:PT1H
BEGIN:VTIMEZONE
TZID:America/New_York
BEGIN:DAYLIGHT
TZOFFSETFROM:-0500
TZOFFSETTO:-0400
TZNAME:EDT
DTSTART:20200308T070000
END:DAYLIGHT
BEGIN:STANDARD
TZOFFSETFROM:-0400
TZOFFSETTO:-0500
TZNAME:EST
DTSTART:20201101T060000
END:STANDARD
BEGIN:DAYLIGHT
TZOFFSETFROM:-0500
TZOFFSETTO:-0400
TZNAME:EDT
DTSTART:20210314T070000
END:DAYLIGHT
BEGIN:STANDARD
TZOFFSETFROM:-0400
TZOFFSETTO:-0500
TZNAME:EST
DTSTART:20211107T060000
END:STANDARD
BEGIN:DAYLIGHT
TZOFFSETFROM:-0500
TZOFFSETTO:-0400
TZNAME:EDT
DTSTART:20220313T070000
END:DAYLIGHT
BEGIN:STANDARD
TZOFFSETFROM:-0400
TZOFFSETTO:-0500
TZNAME:EST
DTSTART:20221106T060000
END:STANDARD
END:VTIMEZONE
BEGIN:VEVENT
DTSTART;TZID=America/New_York:20210624T120000
DTEND;TZID=America/New_York:20210624T130000
DTSTAMP:20260421T175251
CREATED:20210616T175405Z
LAST-MODIFIED:20210617T143600Z
UID:1326-1624536000-1624539600@eracoalitionforward.org
SUMMARY:Truth & Transformation: Uprooting Racism & Reimagining Policing in the United States
DESCRIPTION:A little more than a year ago\, Derek Chauvin\, a white police officer with 18 prior complaints of misconduct\, murdered George Floyd\, an unarmed Black man\, in broad daylight. Although no response could adequately match the arbitrary deprivation of a sacred\, infinitely valuable life\, the public outcry for change and accountability has been forceful and widespread.\n\nSadly\, public officials have not met the intensity of the calls for change with commensurate urgency. Legislative responses have been scattered on state and local levels and efforts to pass federal laws have stalled. This shameful inaction costs lives. Since the murder of George Floyd\, police have killed over 1\,000 more individuals.\n\nUnsatisfied with the inadequate response from domestic lawmakers\, grieving families who lost loved ones to police killings have looked to faith leaders for solace and leadership\, and to international human rights bodies to address the long-neglected violations. Both local and international appeals place pressure on the U.S. to live up to its human rights commitments and shine a light on the structural racism of our criminal justice system.\n\nReflecting on the glacial movement toward racial justice in America\, James Baldwin asked\, “How much time do you want for your progress?” For the people and neighborhoods still subject to the excesses of unaccountable state power on a daily basis\, there is no time to wait. Now is the time to harness the power of global human rights and the moral imperative of our faith to transform American criminal justice.\n\nDuring this time of reckoning with discriminatory police violence\, join Justice Revival for a special conversation with three esteemed guest speakers\, to explore the issue from the intersection of Christian faith and commitment to human rights.
URL:https://eracoalitionforward.org/event/truth-transformation-uprooting-racism-reimagining-policing-in-the-united-states/
LOCATION:Virtual event- from your home
ATTACH;FMTTYPE=image/png:https://eracoalitionforward.org/wp-content/uploads/2021/06/6x4-event-policing.png
END:VEVENT
BEGIN:VEVENT
DTSTART;TZID=America/New_York:20210622T120000
DTEND;TZID=America/New_York:20210622T130000
DTSTAMP:20260421T175251
CREATED:20210617T191822Z
LAST-MODIFIED:20210617T192216Z
UID:1362-1624363200-1624366800@eracoalitionforward.org
SUMMARY:Senate Update and Town Hall Discussion
DESCRIPTION:Join us on Tuesday\, June 22 at noon Eastern for a Senate update and town hall discussion\, with funding from the Harnisch Foundation. We’ll hear from our lead Senate sponsors on SJ Res 1 (recorded and live) and learn where we’re going from here. Then we’ll hear from some of our coalition partner organizations about how the work of the ERA intersects with their efforts\, and what equality would look like to our communities.\n\nAdditional guest speakers include:\n\n 	Christian Nunez\, NOW President\n 	Joi O. Chaney\, Executive Director of the Washington Bureau and Senior Vice President\, Policy and Advocacy\, National Urban League\n 	Linda Coberly\, Chair of the ERA Coalition Legal Task Force\n\nSubmit questions to cwest@eracoalition.org by Friday at 5:00 p.m. Eastern. Please be sure to include which panelist or speaker the question is for\, and your name\, title\, and organization in the email. Questions will be selected in advance in order to give speakers a chance to prep if needed\, and you will be notified if your question was chosen before the event begins.\n\n** Please indicate if you are a member of the press in the name field when you register so we can find you for the press question portion of the event.
URL:https://eracoalitionforward.org/event/senate-update-and-town-hall-discussion/
LOCATION:Virtual event- from your home
ATTACH;FMTTYPE=image/png:https://eracoalitionforward.org/wp-content/uploads/2021/06/Senate-Update.png
END:VEVENT
BEGIN:VEVENT
DTSTART;TZID=America/New_York:20210617T180000
DTEND;TZID=America/New_York:20210617T190000
DTSTAMP:20260421T175251
CREATED:20210506T013354Z
LAST-MODIFIED:20210604T224407Z
UID:268-1623952800-1623956400@eracoalitionforward.org
SUMMARY:The Very Queer History of the Suffrage Movement
DESCRIPTION:Join the Alice Paul Institute for a program with Professor Wendy Rouse whose research explores the queer history of the suffrage movement. Rouse examines how the traditional narrative of women’s suffrage history ignores the role of queer suffragists in the movement. The sanitizing of the private lives and the creation of public personas has contributed to the historical erasure of the lives and loves of prominent queer suffragists. Her talk will explore how the suffrage movement changed the lives of queer suffragists and how queer suffragists changed the suffrage movement. Rouse will also discuss the implications of this new framework to our approach to understanding women’s suffrage history. \n\n  \n\n  \n\n 
URL:https://eracoalitionforward.org/event/the-very-queer-history-of-the-suffrage-movement/
LOCATION:Virtual event- from your home
ATTACH;FMTTYPE=image/png:https://eracoalitionforward.org/wp-content/uploads/2021/05/Queer-History-of-Suffrage-image.png
END:VEVENT
BEGIN:VEVENT
DTSTART;TZID=America/New_York:20210516T040000
DTEND;TZID=America/New_York:20210516T130000
DTSTAMP:20260421T175251
CREATED:20210509T212529Z
LAST-MODIFIED:20210509T212529Z
UID:603-1621137600-1621170000@eracoalitionforward.org
SUMMARY:Volunteer Opportunity!
DESCRIPTION:Morbi vel nisl et magna semper posuere nec rhoncus ligula. Donec cursus efficitur metus\, et scelerisque ipsum suscipit ultrices. Suspendisse scelerisque sem ac velit convallis sodales. Maecenas vel viverra nisi\, non laoreet tellus. Mauris nisl nunc\, facilisis et urna nec\, vulputate auctor lacus. Vivamus vitae dolor eu velit laoreet vehicula. Vivamus interdum sit amet lacus sed pulvinar.
URL:https://eracoalitionforward.org/event/volunteer-opportunity/
CATEGORIES:volunteer
END:VEVENT
END:VCALENDAR