BEGIN:VCALENDAR
VERSION:2.0
PRODID:-//ERA Coalition Forward - ECPv6.15.17//NONSGML v1.0//EN
CALSCALE:GREGORIAN
METHOD:PUBLISH
X-ORIGINAL-URL:https://eracoalitionforward.org
X-WR-CALDESC:Events for ERA Coalition Forward
REFRESH-INTERVAL;VALUE=DURATION:PT1H
X-Robots-Tag:noindex
X-PUBLISHED-TTL:PT1H
BEGIN:VTIMEZONE
TZID:America/New_York
BEGIN:DAYLIGHT
TZOFFSETFROM:-0500
TZOFFSETTO:-0400
TZNAME:EDT
DTSTART:20210314T070000
END:DAYLIGHT
BEGIN:STANDARD
TZOFFSETFROM:-0400
TZOFFSETTO:-0500
TZNAME:EST
DTSTART:20211107T060000
END:STANDARD
BEGIN:DAYLIGHT
TZOFFSETFROM:-0500
TZOFFSETTO:-0400
TZNAME:EDT
DTSTART:20220313T070000
END:DAYLIGHT
BEGIN:STANDARD
TZOFFSETFROM:-0400
TZOFFSETTO:-0500
TZNAME:EST
DTSTART:20221106T060000
END:STANDARD
BEGIN:DAYLIGHT
TZOFFSETFROM:-0500
TZOFFSETTO:-0400
TZNAME:EDT
DTSTART:20230312T070000
END:DAYLIGHT
BEGIN:STANDARD
TZOFFSETFROM:-0400
TZOFFSETTO:-0500
TZNAME:EST
DTSTART:20231105T060000
END:STANDARD
END:VTIMEZONE
BEGIN:VEVENT
DTSTART;TZID=America/New_York:20221027T120000
DTEND;TZID=America/New_York:20221027T130000
DTSTAMP:20260423T154928
CREATED:20221024T193647Z
LAST-MODIFIED:20221024T193647Z
UID:5602-1666872000-1666875600@eracoalitionforward.org
SUMMARY:To Live Free from Fear: Confronting Violence Against Women as People of Faith
DESCRIPTION:Join Justice Revival\, a leading Christian voice for human rights\, on October 27th at noon Eastern as we take on the most ubiquitous human rights crisis in the world: violence against women. You’ll hear from leading experts about a crisis of injustice that claims four lives each day but rarely makes headlines in this country. Experts include:\n\n•	Dr. Indira M. Henard\, DSW MSW\, Executive Director of the DC Rape Crisis Center\n•	Prof. Francisco Rivera Juaristi\, Professor and Director\, International Human Rights Clinic at Santa Clara Law\n•	Rev. Dr. Marie Fortune\, Founder of the FaithTrust Institute\n\nLearn how you can stand in solidarity with survivors by calling for laws and policies that respect their dignity and protect their lives. You can play a part in ending the violence and demanding accountability and change.
URL:https://eracoalitionforward.org/event/to-live-free-from-fear-confronting-violence-against-women-as-people-of-faith/
LOCATION:Virtual event- from your home
ATTACH;FMTTYPE=image/jpeg:https://eracoalitionforward.org/wp-content/uploads/2022/10/VAW-Featured-Image-1.jpg
END:VEVENT
BEGIN:VEVENT
DTSTART;TZID=America/New_York:20221028T150000
DTEND;TZID=America/New_York:20221028T160000
DTSTAMP:20260423T154928
CREATED:20221020T171025Z
LAST-MODIFIED:20221020T171025Z
UID:5534-1666969200-1666972800@eracoalitionforward.org
SUMMARY:ERA 101 Town Hall
DESCRIPTION:Join the ERA Coalition and Fund for Women’s Equality for our next virtual town hall discussion in our town hall series\, supported by the Harnisch Foundation.\n\nWe’ll be joined by experts in the field to discuss the basics of the Equal Rights Amendment\, including what it is\, why we need it\, what it can do once it’s implemented\, and more.\n\nUnsure of why the ERA matters today? Join us for this enlightening discussion with:\n\n 	Michele Goodwin\, Chancellor’s Professor at the University of California\, Irvine\n 	Julie Suk\, Professor of Law at Fordham University School of Law\n 	Jennifer Carroll Foy\, former Virginia State Delegate\n 	Bettina Hager\, DC Director at the ERA Coalition/Fund for Women’s Equality
URL:https://eracoalitionforward.org/event/era-101-town-hall/
LOCATION:Virtual event- from your home
ATTACH;FMTTYPE=image/png:https://eracoalitionforward.org/wp-content/uploads/2022/10/1.png
END:VEVENT
END:VCALENDAR