BEGIN:VCALENDAR
VERSION:2.0
PRODID:-//ERA Coalition Forward - ECPv6.15.17//NONSGML v1.0//EN
CALSCALE:GREGORIAN
METHOD:PUBLISH
X-ORIGINAL-URL:https://eracoalitionforward.org
X-WR-CALDESC:Events for ERA Coalition Forward
REFRESH-INTERVAL;VALUE=DURATION:PT1H
X-Robots-Tag:noindex
X-PUBLISHED-TTL:PT1H
BEGIN:VTIMEZONE
TZID:America/New_York
BEGIN:DAYLIGHT
TZOFFSETFROM:-0500
TZOFFSETTO:-0400
TZNAME:EDT
DTSTART:20220313T070000
END:DAYLIGHT
BEGIN:STANDARD
TZOFFSETFROM:-0400
TZOFFSETTO:-0500
TZNAME:EST
DTSTART:20221106T060000
END:STANDARD
BEGIN:DAYLIGHT
TZOFFSETFROM:-0500
TZOFFSETTO:-0400
TZNAME:EDT
DTSTART:20230312T070000
END:DAYLIGHT
BEGIN:STANDARD
TZOFFSETFROM:-0400
TZOFFSETTO:-0500
TZNAME:EST
DTSTART:20231105T060000
END:STANDARD
BEGIN:DAYLIGHT
TZOFFSETFROM:-0500
TZOFFSETTO:-0400
TZNAME:EDT
DTSTART:20240310T070000
END:DAYLIGHT
BEGIN:STANDARD
TZOFFSETFROM:-0400
TZOFFSETTO:-0500
TZNAME:EST
DTSTART:20241103T060000
END:STANDARD
END:VTIMEZONE
BEGIN:VEVENT
DTSTART;TZID=America/New_York:20230124T150000
DTEND;TZID=America/New_York:20230124T160000
DTSTAMP:20260423T104258
CREATED:20230118T213656Z
LAST-MODIFIED:20230118T213656Z
UID:5918-1674572400-1674576000@eracoalitionforward.org
SUMMARY:The Equal Rights Amendment Factor: Reproductive Rights\, Justice and Health
DESCRIPTION:Join the ERA Coalition/Fund for Women’s Equality explores the connection between the Equal Rights Amendment and human right to personal bodily autonomy\, reproductive rights\, and the right to parent children in safe and sustainable communities\, including access to health care for pregnant and newly parenting persons.\n\nWe’ll be joined in conversation by Leila Abolfazli\, David Cohen\, and Marcela Howell\, with special remarks from Rep. Judy Chu.
URL:https://eracoalitionforward.org/event/the-equal-rights-amendment-factor-reproductive-rights-justice-and-health/
LOCATION:Virtual event- from your home
ATTACH;FMTTYPE=image/png:https://eracoalitionforward.org/wp-content/uploads/2023/01/repro-justice-town-hall_eventbrite.png
END:VEVENT
END:VCALENDAR