BEGIN:VCALENDAR
VERSION:2.0
PRODID:-//ERA Coalition Forward - ECPv6.15.17//NONSGML v1.0//EN
CALSCALE:GREGORIAN
METHOD:PUBLISH
X-WR-CALNAME:ERA Coalition Forward
X-ORIGINAL-URL:https://eracoalitionforward.org
X-WR-CALDESC:Events for ERA Coalition Forward
REFRESH-INTERVAL;VALUE=DURATION:PT1H
X-Robots-Tag:noindex
X-PUBLISHED-TTL:PT1H
BEGIN:VTIMEZONE
TZID:America/New_York
BEGIN:DAYLIGHT
TZOFFSETFROM:-0500
TZOFFSETTO:-0400
TZNAME:EDT
DTSTART:20250309T070000
END:DAYLIGHT
BEGIN:STANDARD
TZOFFSETFROM:-0400
TZOFFSETTO:-0500
TZNAME:EST
DTSTART:20251102T060000
END:STANDARD
BEGIN:DAYLIGHT
TZOFFSETFROM:-0500
TZOFFSETTO:-0400
TZNAME:EDT
DTSTART:20260308T070000
END:DAYLIGHT
BEGIN:STANDARD
TZOFFSETFROM:-0400
TZOFFSETTO:-0500
TZNAME:EST
DTSTART:20261101T060000
END:STANDARD
BEGIN:DAYLIGHT
TZOFFSETFROM:-0500
TZOFFSETTO:-0400
TZNAME:EDT
DTSTART:20270314T070000
END:DAYLIGHT
BEGIN:STANDARD
TZOFFSETFROM:-0400
TZOFFSETTO:-0500
TZNAME:EST
DTSTART:20271107T060000
END:STANDARD
END:VTIMEZONE
BEGIN:VEVENT
DTSTART;VALUE=DATE:20260227
DTEND;VALUE=DATE:20260228
DTSTAMP:20260420T082821
CREATED:20260218T054656Z
LAST-MODIFIED:20260218T054839Z
UID:8476-1772150400-1772236799@eracoalitionforward.org
SUMMARY:2026 Dechert Symposium: “Constitutional Equality: The ERA and Reproductive Justice”
DESCRIPTION:The ERA Project at Birnbaum Women’s Leadership Center’s 2026 Dechert Symposium: “Constitutional Equality: The ERA and the Promise for Reproductive Rights and Justice\,” explores the intersection of the Equal Rights Amendment and reproductive rights through constitutional\, comparative\, and practical lenses.\n\nhttps://bwlc-era.org/events/dechert-symposium-constitutional-equality-the-era-and-the-promise-for-reproductive-rights-and-justice
URL:https://eracoalitionforward.org/event/2026-dechert-symposium-constitutional-equality-the-era-and-reproductive-justice/
LOCATION:NYU Law School\, 40 Washington Square North\, New York\, NY\, 10012\, United States
CATEGORIES:Community,Partner
ATTACH;FMTTYPE=image/png:https://eracoalitionforward.org/wp-content/uploads/2026/02/Screenshot-2026-02-17-at-9.46.30-PM.png
END:VEVENT
END:VCALENDAR