BEGIN:VCALENDAR
VERSION:2.0
PRODID:-//ERA Coalition Forward - ECPv6.15.17//NONSGML v1.0//EN
CALSCALE:GREGORIAN
METHOD:PUBLISH
X-WR-CALNAME:ERA Coalition Forward
X-ORIGINAL-URL:https://eracoalitionforward.org
X-WR-CALDESC:Events for ERA Coalition Forward
REFRESH-INTERVAL;VALUE=DURATION:PT1H
X-Robots-Tag:noindex
X-PUBLISHED-TTL:PT1H
BEGIN:VTIMEZONE
TZID:America/New_York
BEGIN:DAYLIGHT
TZOFFSETFROM:-0500
TZOFFSETTO:-0400
TZNAME:EDT
DTSTART:20230312T070000
END:DAYLIGHT
BEGIN:STANDARD
TZOFFSETFROM:-0400
TZOFFSETTO:-0500
TZNAME:EST
DTSTART:20231105T060000
END:STANDARD
BEGIN:DAYLIGHT
TZOFFSETFROM:-0500
TZOFFSETTO:-0400
TZNAME:EDT
DTSTART:20240310T070000
END:DAYLIGHT
BEGIN:STANDARD
TZOFFSETFROM:-0400
TZOFFSETTO:-0500
TZNAME:EST
DTSTART:20241103T060000
END:STANDARD
BEGIN:DAYLIGHT
TZOFFSETFROM:-0500
TZOFFSETTO:-0400
TZNAME:EDT
DTSTART:20250309T070000
END:DAYLIGHT
BEGIN:STANDARD
TZOFFSETFROM:-0400
TZOFFSETTO:-0500
TZNAME:EST
DTSTART:20251102T060000
END:STANDARD
END:VTIMEZONE
BEGIN:VEVENT
DTSTART;TZID=America/New_York:20240221T180000
DTEND;TZID=America/New_York:20240221T203000
DTSTAMP:20260420T103246
CREATED:20240213T175132Z
LAST-MODIFIED:20240213T175132Z
UID:6567-1708538400-1708547400@eracoalitionforward.org
SUMMARY:Join Fund for Women's Equality at Georgia ERA Day
DESCRIPTION:Join Triana Arnold-James\, President Georgia National Organization for Women; ERA Coalition/Fund for Women’s Equality President Zakiya Thomas; and Jordan Brown with the Movement Voter Project on Wednesday\, February 21 at 6:30 p.m. ET. at Six Feet Under in Atlanta.\n\nYou’ll learn more about the 2024 landscape\, what’s at stake this election\, and why gender equality impacts everyone.\n\nDonations encouraged but not required.
URL:https://eracoalitionforward.org/event/join-fund-for-womens-equality-at-georgia-era-day/
LOCATION:Six Feet Under\, 437 Memorial Dr SE Suite #1A\, Atlanta\, GA\, 30312\, United States
ATTACH;FMTTYPE=image/png:https://eracoalitionforward.org/wp-content/uploads/2024/02/GA-ERA-Day-c3-version.png
END:VEVENT
END:VCALENDAR